BEGIN:VCALENDAR
VERSION:2.0
PRODID:-//BEPA - ECPv6.15.20//NONSGML v1.0//EN
CALSCALE:GREGORIAN
METHOD:PUBLISH
X-ORIGINAL-URL:https://bepassociation.eu
X-WR-CALDESC:Events for BEPA
REFRESH-INTERVAL;VALUE=DURATION:PT1H
X-Robots-Tag:noindex
X-PUBLISHED-TTL:PT1H
BEGIN:VTIMEZONE
TZID:Europe/Warsaw
BEGIN:DAYLIGHT
TZOFFSETFROM:+0100
TZOFFSETTO:+0200
TZNAME:CEST
DTSTART:20240331T010000
END:DAYLIGHT
BEGIN:STANDARD
TZOFFSETFROM:+0200
TZOFFSETTO:+0100
TZNAME:CET
DTSTART:20241027T010000
END:STANDARD
BEGIN:DAYLIGHT
TZOFFSETFROM:+0100
TZOFFSETTO:+0200
TZNAME:CEST
DTSTART:20250330T010000
END:DAYLIGHT
BEGIN:STANDARD
TZOFFSETFROM:+0200
TZOFFSETTO:+0100
TZNAME:CET
DTSTART:20251026T010000
END:STANDARD
BEGIN:DAYLIGHT
TZOFFSETFROM:+0100
TZOFFSETTO:+0200
TZNAME:CEST
DTSTART:20260329T010000
END:DAYLIGHT
BEGIN:STANDARD
TZOFFSETFROM:+0200
TZOFFSETTO:+0100
TZNAME:CET
DTSTART:20261025T010000
END:STANDARD
END:VTIMEZONE
BEGIN:VEVENT
DTSTART;TZID=Europe/Warsaw:20251203T190000
DTEND;TZID=Europe/Warsaw:20251204T180000
DTSTAMP:20260423T192401
CREATED:20250326T145232Z
LAST-MODIFIED:20251121T095215Z
UID:16206-1764788400-1764871200@bepassociation.eu
SUMMARY:BEPA 11th General Assembly
DESCRIPTION:BEPA is inviting its members to the 11th General Assembly\, a decision-making gathering taking place on 4 December\, Graz and online. \nTo welcome our members to Graz\, on Wednesday 3 December\, BEPA will offer a networking dinner. Join to connect with fellow members in an informal setting. \nABOUT THE GENERAL ASSEMBLY: The General Assembly taking place on the 4th of December will update you on our R&I 2025 activities\, we will present our new manifesto “A Battery Deal for Europe”. There will be important elections for BEPA’s Executive and Advisory Boards and the approval of the 2026 Work Plan\, Budget\, and Membership Fees. And more! \nRULES FOR PARTICIPATION & VOTING: BEPA members are allowed to register two (2) representatives onsite and unlimited representatives to attend the event online. Industry and research members can select one representative with voting rights\, whereas associations have no voting rights. Members who cannot attend can delegate their votes to another member of the same category. \nMATCHMAKING EVENT: The afternoon will be fully dedicated to matchmaking around the 2026 Batt4EU Horizon Europe calls\, giving members the opportunity to build strong consortia and explore project opportunities. We will present and analyse the open calls together\, listen to members’ pitches after which\, we will give the floor to the matchmaking. \nREGISTER HERE \n\n 
URL:https://bepassociation.eu/calendar/bepa-11th-general-assembly/
LOCATION:Graz\, Austria
CATEGORIES:Event,ORGANISED BY BEPA
END:VEVENT
END:VCALENDAR