BEGIN:VCALENDAR
VERSION:2.0
PRODID:-//BEPA - ECPv6.15.20//NONSGML v1.0//EN
CALSCALE:GREGORIAN
METHOD:PUBLISH
X-WR-CALNAME:BEPA
X-ORIGINAL-URL:https://bepassociation.eu
X-WR-CALDESC:Events for BEPA
REFRESH-INTERVAL;VALUE=DURATION:PT1H
X-Robots-Tag:noindex
X-PUBLISHED-TTL:PT1H
BEGIN:VTIMEZONE
TZID:Europe/Warsaw
BEGIN:DAYLIGHT
TZOFFSETFROM:+0100
TZOFFSETTO:+0200
TZNAME:CEST
DTSTART:20250330T010000
END:DAYLIGHT
BEGIN:STANDARD
TZOFFSETFROM:+0200
TZOFFSETTO:+0100
TZNAME:CET
DTSTART:20251026T010000
END:STANDARD
BEGIN:DAYLIGHT
TZOFFSETFROM:+0100
TZOFFSETTO:+0200
TZNAME:CEST
DTSTART:20260329T010000
END:DAYLIGHT
BEGIN:STANDARD
TZOFFSETFROM:+0200
TZOFFSETTO:+0100
TZNAME:CET
DTSTART:20261025T010000
END:STANDARD
BEGIN:DAYLIGHT
TZOFFSETFROM:+0100
TZOFFSETTO:+0200
TZNAME:CEST
DTSTART:20270328T010000
END:DAYLIGHT
BEGIN:STANDARD
TZOFFSETFROM:+0200
TZOFFSETTO:+0100
TZNAME:CET
DTSTART:20271031T010000
END:STANDARD
END:VTIMEZONE
BEGIN:VEVENT
DTSTART;VALUE=DATE:20260212
DTEND;VALUE=DATE:20260213
DTSTAMP:20260423T111048
CREATED:20251209T101343Z
LAST-MODIFIED:20251209T101343Z
UID:24842-1770854400-1770940799@bepassociation.eu
SUMMARY:Tech.Land Xperience Cross-Border Innovation Festival
DESCRIPTION:TECH.LAND Xperience 2026 offers a full-day program that brings the strengths of our Dutch-German innovation region to the stage. Following our motto “Transforming Borders into Connection”\, the festival celebrates the exchange of ideas and joint efforts toward a more innovative and sustainable future. \nAcross four stages\, breakout rooms\, interactive workshops\, curated match-makings\, and an exhibition area\, we’ll dive into the key cluster topics of our region and provide space for deeper exchange\, hands-on insights\, and new connections. \nThe topics discussed will be: \n\nManufacturing and robotics\nBatteries\nCircular economy\nHealth and medtech\nHydrogen\nChip technology\nSecurity and defence\n\nMore information here
URL:https://bepassociation.eu/calendar/tech-land-xperience-cross-border-innovation-festival/
CATEGORIES:Event
END:VEVENT
BEGIN:VEVENT
DTSTART;VALUE=DATE:20260527
DTEND;VALUE=DATE:20260529
DTSTAMP:20260423T111048
CREATED:20251209T151640Z
LAST-MODIFIED:20251209T151640Z
UID:24847-1779840000-1780012799@bepassociation.eu
SUMMARY:The Battery Materials and Processing Conference
DESCRIPTION:This is a key meeting point for experts\, researchers and industry leaders in battery materials\, processing and energy storage. The conference offers insights into the latest developments in materials innovation\, sustainability and next-generation battery technology. \nThe conference covers the entire battery materials value chain – from raw materials and active components to processing\, battery cells and manufacturing. Key topics include cell components\, binders\, separators\, as well as testing methods and advanced analysis. Safety\, recycling and reuse are also in focus\, driving sustainable and innovative energy solutions.
URL:https://bepassociation.eu/calendar/the-battery-materials-and-processing-conference/
CATEGORIES:Event
END:VEVENT
END:VCALENDAR